BEGIN:VCALENDAR
PRODID:-//AT Content Types//AT Event//EN
VERSION:2.0
METHOD:PUBLISH
BEGIN:VEVENT
DTSTAMP:20260424T031323Z
CREATED:20151007T101849Z
UID:ATEvent-f45bc7dd858f66f87b95a34a215dbd6d
LAST-MODIFIED:20151103T180449Z
SUMMARY:11th HASLab InfoBlender
DTSTART:20151104T133000Z
DTEND:20151104T150000Z
DESCRIPTION:INESC TEC's High Assurance Software Laboratory (HASLab) is
  organising the 11th Edition of the InfoBlender\, which will feature P
 rof. Pooya Farshim\, Queen's University Belfast\, UK. The professor wi
 ll be discussing Random Oracles and Obfuscation.
LOCATION:Universidade do Minho
CONTACT:Paula Rodrigues\, haslab.comunicacao@gmail.com
URL:http://haslab.uminho.pt/infoblender/presentations/code-graphs-data-flow-graphs-control-flow-graphs-and-inter-action-nets
CLASS:PUBLIC
END:VEVENT
END:VCALENDAR
