BEGIN:VCALENDAR
PRODID:-//AT Content Types//AT Event//EN
VERSION:2.0
METHOD:PUBLISH
BEGIN:VEVENT
DTSTAMP:20260424T013849Z
CREATED:20151016T141555Z
UID:ATEvent-0c914d1bd32afeaa6fbf11e6f5c1859c
LAST-MODIFIED:20151021T132042Z
SUMMARY:10th HASLab InfoBlender
DTSTART:20151021T123000Z
DTEND:20151021T140000Z
DESCRIPTION:10th HASLab Infoblender Seminar
LOCATION:Braga\, INESC TEC's Pole
CATEGORIES:Seminário
CONTACT:Paula Rodrigues\, haslab.comunicacao@gmail.com
CLASS:PUBLIC
END:VEVENT
END:VCALENDAR
