BEGIN:VCALENDAR
PRODID:-//AT Content Types//AT Event//EN
VERSION:1.0
BEGIN:VEVENT
DTSTART:20091201T090000Z
DTEND:20091201T180000Z
DCREATED:20090423T100951Z
UID:ATEvent-783d7219ee9b831e6d01948fc020e286
SEQUENCE:0
LAST-MODIFIED:20100830T142922Z
SUMMARY:U-NET '09 — User-provided Networking\: Challenges and Opportunities
DESCRIPTION:U-NET 2009 is the first ACM international workshop dedicat
 ed to the debate of concepts\, challenges\, and opportunities concerni
 ng user-provided networking\, i.e.\, scenarios where users cooperate b
 y sharing wireless resources as well as Internet services.\n\nFor more
  information\:\nhttp\://conferences.sigcomm.org/co-next/2009/workshops
 /unet/
LOCATION:Rome\, Italy
PRIORITY:3
TRANSP:0
END:VEVENT
END:VCALENDAR
