BEGIN:VCALENDAR
PRODID:-//AT Content Types//AT Event//EN
VERSION:2.0
METHOD:PUBLISH
BEGIN:VEVENT
DTSTAMP:20260421T091857Z
CREATED:20081103T121323Z
UID:ATEvent-16b836b29a81b44904d69a61ba01964d
LAST-MODIFIED:20100210T171426Z
SUMMARY:UTM Lab meeting - "Tree-based Models to Predict Rankings"
DTSTART:20081114T110000Z
DTEND:20081114T120000Z
DESCRIPTION:Carla Rebelo presents her work on "Tree-based Models to Pr
 edict Rankings"  that was performed in the Sciences Faculty/LIADD.
LOCATION:Sala Nobre\, Civil Dept.\, Building G\, 1º Floor
CONTACT:Carla Rebelo
CLASS:PUBLIC
END:VEVENT
END:VCALENDAR
