BEGIN:VCALENDAR
PRODID:-//AT Content Types//AT Event//EN
VERSION:2.0
METHOD:PUBLISH
BEGIN:VEVENT
DTSTAMP:20260421T110138Z
CREATED:20111123T165629Z
UID:ATEvent-93f3570101150b68411632ab712cfdbf
LAST-MODIFIED:20130321T132942Z
SUMMARY:International Society for Music Information Retrieval Conference (ISMIR 2012)
DTSTART:20121008T080000Z
DTEND:20121012T180000Z
DESCRIPTION:The Telecommunications and Multimedia Unit at INESC TEC wi
 ll be organising the 13th edition of the International Society for Mus
 ic Information Retrieval Conference (ISMIR 2012) that will take place 
 at the São Bento da Vitória Monastery in Porto between 8th and 12th 
 October 2012.
LOCATION:São Bento da Vitória Monastery\, Porto
CONTACT:ismir2012@ismir.net
URL:http://ismir2012.ismir.net/
CLASS:PUBLIC
END:VEVENT
END:VCALENDAR
