BEGIN:VCALENDAR
PRODID:-//AT Content Types//AT Event//EN
VERSION:1.0
BEGIN:VEVENT
DTSTART:20141113T093000Z
DTEND:20141115T190000Z
DCREATED:20140722T161246Z
UID:ATEvent-559f576f1c3404d06be4a1c9b7d92469
SEQUENCE:0
LAST-MODIFIED:20141030T165505Z
SUMMARY:Bringing the lean startup approach into your organization
DESCRIPTION:In association with Tristan Kromer from TriKro LLC (Silico
 n Valley\, USA)\, ANJE and INESC TEC have set up a 3-day intensive wor
 kshop that will help you better understand how to move fast\, find cus
 tomers\, and exploit uncharted market opportunities by following lean 
 startup best practices and nurturing a lean innovation ecosystem in yo
 ur own company.
LOCATION:Casa do Farol\, Rua Paulo Gama\, 4160-006 Porto
PRIORITY:3
TRANSP:0
END:VEVENT
END:VCALENDAR
