BEGIN:VCALENDAR
PRODID:-//AT Content Types//AT Event//EN
VERSION:2.0
METHOD:PUBLISH
BEGIN:VEVENT
DTSTAMP:20260423T163822Z
CREATED:20140722T161246Z
UID:ATEvent-4489e195defbbcab83fec7d7ea99af73
LAST-MODIFIED:20141030T165505Z
SUMMARY:Bringing the startup approach into your organization
DTSTART:20141113T093000Z
DTEND:20141115T190000Z
DESCRIPTION:In association with Tristan Kromer from TriKro LLC (Silico
 n Valley\, USA)\, ANJE and INESC TEC have set up a 3-day intensive wor
 kshop that will help you better understand how to move fast\, find cus
 tomers\, and exploit uncharted market opportunities by following lean 
 startup best practices and nurturing a lean innovation ecosystem in yo
 ur own company.
LOCATION:ANJE\, Casa do Farol\, Rua Paulo Gama\, 4160-006 Porto
CONTACT:Andreia Passos\, + 351 22 209 42 15\, andreia.passos@inesctec.pt
URL:https://docs.google.com/spreadsheet/viewform?usp=drive_web&formkey=dG85Q2dtV3MzVVZ4RFhObzdDdDUxNGc6MA#gid=0
CLASS:PUBLIC
END:VEVENT
END:VCALENDAR
