BEGIN:VCALENDAR
PRODID:-//AT Content Types//AT Event//EN
VERSION:2.0
METHOD:PUBLISH
BEGIN:VEVENT
DTSTAMP:20260422T002242Z
CREATED:20071012T163524Z
UID:ATEvent-80d52a8455e8ccf9640440cea29a25ae
LAST-MODIFIED:20071015T151636Z
SUMMARY:BASYS 2008 - 8th IFIP International Conference on Information Technology for Balanced Automation Systems
DTSTART:20080623T080000Z
DTEND:20080625T170000Z
DESCRIPTION:The focus of the BASYS'08 conference is to discuss the rap
 idly evolving field of integration of human actors and emergent techno
 logies and multi-disciplinary approaches towards business ecosystems w
 here a myriad of networked technologies and devices\, full interacting
  with human beings\, will be generating\, consuming and relaying data 
 and knowledge in the context of a pervasive digital environment.
LOCATION:Hotel Ipanema\, Porto - Portugal
CATEGORIES:Conferência
CONTACT:Américo Azevedo\, +351 222 094 399\, basysconference@inescporto.pt
URL:http://www.basysconference.org/
CLASS:PUBLIC
END:VEVENT
END:VCALENDAR
