BEGIN:VCALENDAR
PRODID:-//AT Content Types//AT Event//EN
VERSION:2.0
METHOD:PUBLISH
BEGIN:VEVENT
DTSTAMP:20260425T123829Z
CREATED:20080710T160334Z
UID:ATEvent-c2e751315990c5022e065e9e1f29911a
LAST-MODIFIED:20130321T130546Z
SUMMARY:Apresentação pública do projecto CEC-Made-Shoe
DTSTART:20080721T130000Z
DTEND:20080721T173000Z
DESCRIPTION:O projecto CEC-Made-Shoe\, concluído recentemente pela Un
 idade de Engenharia de Sistemas de Produção (UESP)\, vai ser apresen
 tado no dia 21 de Julho\, pelas 14h00\, nas instalações da Kyaia\, e
 m Paredes de Coura.
LOCATION:Auditório do Centro Cultural de Paredes de Coura
CONTACT:Marta Oliveira\, 22 2094398\, mio@inescporto.pt
CLASS:PUBLIC
END:VEVENT
END:VCALENDAR
