BEGIN:VCALENDAR
PRODID:-//AT Content Types//AT Event//EN
VERSION:1.0
BEGIN:VEVENT
DTSTART:20080721T130000Z
DTEND:20080721T173000Z
DCREATED:20080710T160334Z
UID:ATEvent-511ccf49acd7447f7a810009577c9c32
SEQUENCE:0
LAST-MODIFIED:20130321T130546Z
SUMMARY:Public presentation of the CEC-Made-Shoe project
DESCRIPTION:The CEC-made-shoe project\, recently concluded by the Manu
 facturing Systems Engineering Unit (UESP)\, will be presented on 21 Ju
 ly\, around 2 pm\, at the facilities of the company Kyaia\, in Paredes
  de Coura.
LOCATION:Auditorium of the Centro Cultural of Paredes de Coura
PRIORITY:3
TRANSP:0
END:VEVENT
END:VCALENDAR
