BEGIN:VCALENDAR
PRODID:-//AT Content Types//AT Event//EN
VERSION:2.0
METHOD:PUBLISH
BEGIN:VEVENT
DTSTAMP:20260423T183912Z
CREATED:20150319T130329Z
UID:ATEvent-43368fb8685ff8a20bf9c43443639617
LAST-MODIFIED:20150319T145617Z
SUMMARY:Service Design for Innovation Marie Curie Innovative Training Network - 9 PhD positions open
DTSTART:20150319T090000Z
DTEND:20150413T225500Z
DESCRIPTION:Service Design for Innovation (SDIN)\, a Marie Curie Europ
 ean Training Network\, is now seeking 9 outstanding Early Stage Resear
 chers (ESR) to join its 3 years research training program\, involving 
 a PhD enrolment and a full-time contract.\nThese Marie Curie positions
  are attractive and highly prestigious opportunities for Early Stage R
 esearchers in the field of Service Design and Innovation.
LOCATION:Vários
CATEGORIES:Concurso
CLASS:PUBLIC
END:VEVENT
END:VCALENDAR
