BEGIN:VCALENDAR
PRODID:-//AT Content Types//AT Event//EN
VERSION:1.0
BEGIN:VEVENT
DTSTART:20140827T083000Z
DTEND:20140829T120000Z
DCREATED:20140805T084345Z
UID:ATEvent-8acbf4c6b01ac17ecb0e680d2e1fd79e
SEQUENCE:0
LAST-MODIFIED:20140902T140253Z
SUMMARY:International Workshop on Lot Sizing
DESCRIPTION:The fifth edition of the International Workshop on Lot-Siz
 ing will be held in Porto\, Portugal.
LOCATION:Fundação Manuel da Mota\, Mercado Bom Sucesso\, Porto
PRIORITY:3
TRANSP:0
END:VEVENT
END:VCALENDAR
