BEGIN:VCALENDAR
PRODID:-//AT Content Types//AT Event//EN
VERSION:1.0
BEGIN:VEVENT
DTSTART:20141022T073000Z
DTEND:20141024T163000Z
DCREATED:20140525T163108Z
UID:ATEvent-feac38e002ee03420191edf0a6afa524
SEQUENCE:0
LAST-MODIFIED:20140723T134645Z
SUMMARY:ICIAR 2014 - International Conference on Image Analysis and Recognition
DESCRIPTION:ICIAR – The International Conference on Image Analysis a
 nd Recognition aims to bring together researchers in the fields of Ima
 ge Processing\, Image Analysis and Pattern Recognition. The conference
  will address recent advances in theory\, methodologies and applicatio
 ns. The scientific program will include invited speakers and fully ref
 ereed contributions that will be published in the conference proceedin
 gs. The ICIAR series of conferences is organized annually\, alternatin
 g between Europe and America.
LOCATION:Vilamoura - Algarve\, Portugal
PRIORITY:3
TRANSP:0
END:VEVENT
END:VCALENDAR
