BEGIN:VCALENDAR
PRODID:-//AT Content Types//AT Event//EN
VERSION:2.0
METHOD:PUBLISH
BEGIN:VEVENT
DTSTAMP:20260421T161856Z
CREATED:20090106T191548Z
UID:ATEvent-17ba50b4222cecf5100ba0fed039f49f
LAST-MODIFIED:20090106T191901Z
SUMMARY:UOSE Meetings
DTSTART:20090107T140000Z
DTEND:20090107T160000Z
DESCRIPTION:Group meetings at Campo Alegre (Porto) with Filipe MagalhÃ
 £es talking about\:\n\n"Using Genetic Algorithms with Local Search for
  Thin Film Metrology"
LOCATION:UOSE - Faculty of Science (room -117)
CATEGORIES:Lab Meeting
CONTACT:Pedro Jorge\, +351 220 402 301\, pjorge@nescporto.pt
CLASS:PUBLIC
END:VEVENT
END:VCALENDAR
